BEGIN:VCALENDAR
VERSION:2.0
PRODID:icalendar-ruby
CALSCALE:GREGORIAN
BEGIN:VEVENT
DTSTAMP:20210122T055340Z
UID:2d6fd7bb-0c60-4adc-88bd-3dd38b2c523e
DTSTART;TZID=Pacific/Auckland:20210124T130000
DTEND;TZID=Pacific/Auckland:20210124T140000
DESCRIPTION:Property ID# 499300
SUMMARY:Openhome for 64 McGiven Drive
END:VEVENT
END:VCALENDAR
