BEGIN:VCALENDAR
VERSION:2.0
PRODID:icalendar-ruby
CALSCALE:GREGORIAN
BEGIN:VEVENT
DTSTAMP:20210122T055034Z
UID:7767a629-d9ee-486d-b2db-85395038ce8b
DTSTART;TZID=Pacific/Auckland:20210124T130000
DTEND;TZID=Pacific/Auckland:20210124T133000
DESCRIPTION:Property ID# 499276
SUMMARY:Openhome for 17B Clawton Street
END:VEVENT
END:VCALENDAR
