BEGIN:VCALENDAR
VERSION:2.0
PRODID:icalendar-ruby
CALSCALE:GREGORIAN
BEGIN:VEVENT
DTSTAMP:20210122T055041Z
UID:b01ff043-bb3b-404a-9497-898524854d3c
DTSTART;TZID=Pacific/Auckland:20210123T123000
DTEND;TZID=Pacific/Auckland:20210123T130000
DESCRIPTION:Property ID# 499105
SUMMARY:Openhome for 10 Waterloo Place
END:VEVENT
END:VCALENDAR
