BEGIN:VCALENDAR
VERSION:2.0
PRODID:icalendar-ruby
CALSCALE:GREGORIAN
BEGIN:VEVENT
DTSTAMP:20210122T055337Z
UID:25ccdd89-ead9-4300-a0b8-82a9846c0db4
DTSTART;TZID=Pacific/Auckland:20210124T103000
DTEND;TZID=Pacific/Auckland:20210124T110000
DESCRIPTION:Property ID# 499446
SUMMARY:Openhome for 12 Tangaroa Street
END:VEVENT
END:VCALENDAR
